BEGIN:VCALENDAR
VERSION:2.0
PRODID:-//www.bygningen-vejle.dk
METHOD:REQUEST
BEGIN:VEVENT
UID:6982
DTSTAMP:20260423T175100
DTSTART:20260130T210000
DTEND:20260130T210000
SUMMARY:SEND mobildiskotek
DESCRIPTION:<p>Værter: </p>
<p> </p>
<p>Samuel Ndikuriyo</p>
<p>Milad Khansa</p>
<p>Yahya Farah</p>
<p>Jonathan Andersen </p> Se mere på http://www.bygningen-vejle.dk/
LOCATION:Ved Anlæget 14B 7100 Vejle
END:VEVENT
END:VCALENDAR


