BEGIN:VCALENDAR
VERSION:2.0
PRODID:-//www.bygningen-vejle.dk
METHOD:REQUEST
BEGIN:VEVENT
UID:7171
DTSTAMP:20260425T185600
DTSTART:20260617T170000
DTEND:20260617T170000
SUMMARY:Origami & Matcha
DESCRIPTION:<p class="x_x_MsoNormal"><span data-olk-copy-source="MessageBody">Dyk ned i japansk kultur, når Bygningen inviterer til en sanselig og kreativ eftermiddag med Matcha &amp; Origami.</span><span></span></p>
<p class="x_x_MsoNormal"><span> </span></p>
<p class="x_x_MsoNormal"><span>Her kombinerer vi det traditionelle japanske håndværk bag origami med den stolte japanske matcha-tradition, når du både lærer at folde klassiske papirfigurer og selv pisker din egen iced matcha i en moderne fortolkning af den ikoniske drik. Undervejs dykker vi ned i historien, traditionerne og håndværket bag begge dele og skaber et hyggeligt rum med plads til fordybelse, nysgerrighed og fællesskab.</span><span></span></p>
<p class="x_x_MsoNormal"><span> </span></p>
<p class="x_x_MsoNormal"><span>Arrangementet kræver ingen erfaring eller forkundskaber – bare lysten til at prøve noget nyt og opleve japansk kultur i godt selskab. </span><span></span></p>
<p class="x_x_MsoNormal"><span> </span></p>
<p class="x_x_MsoNormal"><span>Jeres undervisere er Oliver Mørk, som har stor erfaring med og passion for origami og Maria Theresa Olsen der har solid viden om den ikoniske grønne drik.</span></p> Se mere på http://www.bygningen-vejle.dk/
LOCATION:Ved Anlæget 14B 7100 Vejle
END:VEVENT
END:VCALENDAR


