BEGIN:VCALENDAR
VERSION:2.0
PRODID:-//www.bygningen-vejle.dk
METHOD:REQUEST
BEGIN:VEVENT
UID:6967
DTSTAMP:20260424T165900
DTSTART:20260128T193000
DTEND:20260128T193000
SUMMARY:Kathrine Windfeld Big Band
DESCRIPTION:<p><strong><span data-olk-copy-source="MessageBody">Kathrine Windfeld: Et musikalsk kraftværk med en helt original tilgang til big band genren.</span></strong></p>
<p><span data-olk-copy-source="MessageBody"><br />Kathrine Windfeld Big Band - dirigeres af Kathrine Windfeld, som både komponerer og arrangerer for orkestret, og samtidig er hun big bandets inspirerende pianist.<br />Hun har turneret i 20 lande med sine ensembler og vandt i 2024 prisen “Årets Livenavn” ved Danish Music Awards Jazz.<br /></span></p>
<p> </p>
<p><span data-olk-copy-source="MessageBody">The Guardian (UK) beskriver Kathrine Windfelds kompositioner som en sjælden kombination af power og elegance: En farverig blanding af sofistikerede harmoniske passager, fysiske grooves og poetiske </span><span data-olk-copy-source="MessageBody">ballader i eksplosive arrangementer.</span></p>
<p> </p>
<p><span>Denne aften skal du og vennerne møde Windfeld med sit eget håndplukkede orkester, som hun har stået i spidsen for i over 10 år. Publikum kan forvente et karismatisk og eksplosivt, moderne bigband i international klasse med knivskarpe ensemble-partier og stjernesolister.</span></p>
<p> </p>
<p><span>Kathrine Windfeld – Piano, orkesterleder, komponist<br /><span>Jakob Lundbak – saxofon</span><br /><span>Magnus Thuelund – saxofon</span><br /><span>Marek Konarski – saxofon</span><br /><span>Lubos Soukup – saxofon</span><br /><span>Jacob Danielsen – saxofon</span><br /><span>Anders Larson – trombone</span><br /><span>Göran Abelli – trombone</span><br /><span>Tobias Stavngaard – trombone</span><br /><span>André Bak – trompet</span><br /><span>Rolf Thofte Løkke – trompet</span><br /><span>Magnus Oseth – trompet</span><br /><span>Daniel Sommer – trommer</span><br /><span>Jakob Roland – bas</span><br /><span>Viktor Sandström – guitar</span></span></p> Se mere på http://www.bygningen-vejle.dk/
LOCATION:Ved Anlæget 14B 7100 Vejle
END:VEVENT
END:VCALENDAR


