BEGIN:VCALENDAR
VERSION:2.0
PRODID:-//www.bygningen-vejle.dk
METHOD:REQUEST
BEGIN:VEVENT
UID:6969
DTSTAMP:20260423T110900
DTSTART:20260212T193000
DTEND:20260212T193000
SUMMARY:Cecilie Strange Quartet
DESCRIPTION:<p><span>JIVE er stolte af endelig at kunne præsentere vor lokalt-fødte tenorsaxofonist, Cecilie Strange med </span><span>hendes eget drømme band.</span></p>
<p><br /><span>Hendes seneste udgivelse fra foråret 25 har titlen BEECH, hvilket betyder bøgetræ.</span><br /><span>Det antyder lidt, hvor Cecilie vil have sin musik hen: Vi er i den rolige, stemningsfulde del af jazzen</span><br /><span></span></p>
<p> </p>
<p><span>Strange har fået massiv anerkendelse for sit musikerskab, ikke mindst det kompositoriske.</span><br /><span>Det realiseres i det smukke samarbejde med de øvrige, meget anerkendte musikere i bandet, som er </span><span>svenske Tommy Andersson på bas, den eminente Peter Rosendal på piano og Jakob Høyer på trommer. </span><span>Gruppen har spillet sammen i adskillige år og kender hinanden dybt musikalsk.</span><br /><span></span></p>
<p> </p>
<p><span>I dette orkester, som altså spiller Cecilies kompositioner, er man i den grad enige om udtrykket i </span><span>musikken.</span></p>
<p> </p>
<p><span>Cecilie Strange – saxofon<br /><span>Peter Rosendal – piano</span><br /><span>Thommy Andersson – bas</span><br /><span>Jakob Høyer – trommer</span></span></p> Se mere på http://www.bygningen-vejle.dk/
LOCATION:Ved Anlæget 14B 7100 Vejle
END:VEVENT
END:VCALENDAR


