BEGIN:VCALENDAR
VERSION:2.0
PRODID:-//www.bygningen-vejle.dk
METHOD:REQUEST
BEGIN:VEVENT
UID:6366
DTSTAMP:20260425T022200
DTSTART:20250129T200000
DTEND:20250129T200000
SUMMARY:RAINDOGS celebrating Tom Waits
DESCRIPTION:<p style="font-weight: 400;">TOM WAITS’ univers er en after-hours bar i et skummelt kvarter, hvor de skæve eksistenser og tragiske skæbner mødes med fallerede poeter og håbløse romantikere for at konkurrere om, hvem der har mødt mest modgang i livet. Tom Waits’ univers er en kaj i Caribien, hvor pirater bæller rom og danser tango, mens de synger om terningspillende dværge og dystre hemmeligheder fra de syv have, akkompagneret af en ustemt guitar og et rustent trædeorgel. Tom Waits’ univers er en gammel knark, der ringer til hans ungdoms elskede, som han ikke har set i umindelige tider og kniber en tåre, da han hører hendes stemme.<br /><br /></p>
<p style="font-weight: 400;">RAINDOGS opstod i 2003 og har siden da begejstret Tom Waits-fans i Danmark og Norge ved mere en 250 koncerter. Bandet spiller et bredt udpluk af Waits’ karriere, fra den country- og jazzinspirerede start med ’Closing Time’ og ’Heart of Saturday Night’ over den caribiske piratmytologi han skabte med ’Raindogs’-pladen, op til det stilmæssigt udefinérbare, men højst personlige udtryk, der findes på pladerne ’Real Gone’ og ’Orphans’. Ole Johnny Stenslands dommedagsrøst lader intet tilbage at ønske i forhold til originalen og orkestrets upolerede og energiske spil skaber indtrykket af et ethjulet lokomotiv med kurs mod helvede.<br /><br /><strong>RAINDOGS - Celebrating Tom Waits</strong> er Danmarks decideret bedste bud på en troværdig, svedig og rå Tom Waits-aften. Det dansk/norske band gav over 100 forrygende og ofte udsolgte koncerter for utallige Tom Waits fans omkring i både Danmark og Norge i perioden 2003-2009, og holdte i perioden 2009-2013 en længere pause for at pleje familie og andre musikalske projekter. I efteråret 2013 vågnede vilddyret endeligt til livet igen, og<span> </span><strong>RAINDOGS</strong><span> </span>spillede 7 reunion-koncerter for fuldsatte spillesteder rundt om i landet. Publikums overvældende respons og deres tørst efter mere Tom Waits gav bandet grundlag for igen at booke sine årlige Danmarks-turnéer. Dette har resulteret i en årligt tilbagevendende happening, hvor orkestret i de sidste 10 år har rejst landet rundt for at blæse hoved og ører af sine trofaste fans til udsolgte koncerter. <br /><br />Nu blæser de igen, og denne gang også i Vejle..</p>
<p style="font-weight: 400;"> <br />Line up:</p>
<p style="font-weight: 400;">Ole Johnny Stensland – guitar/vokal<br />Ask Nørholm – guitar/vokal<br />Tormod Holm – saxofoner/percussion/vokal<br />Ole Jonas Storli – klaver/orgel<br />Erik Olevik – bas<br />Håkon Berre – trommer/percussion</p> Se mere på http://www.bygningen-vejle.dk/
LOCATION:Ved Anlæget 14B 7100 Vejle
END:VEVENT
END:VCALENDAR


