BEGIN:VCALENDAR
VERSION:2.0
PRODID:-//www.bygningen-vejle.dk
METHOD:REQUEST
BEGIN:VEVENT
UID:6231
DTSTAMP:20260421T000700
DTSTART:20241102T200000
DTEND:20241102T200000
SUMMARY:DELTA BLUES BAND
DESCRIPTION:<p>SKANDINAVIENS ÆLDSTE BLUEBAND</p>
<p>- siden 2022 i ny, udvidet udgave med endnu flere af Danmark bedste bluesmusikere.</p>
<p> </p>
<p>Delta Blues Band gjorde sensationelt comeback ved årets Copenhagen Blues Festival i 2008. Bandet anses som nogle af de vigtigste grundlæggere af blues-scenen i Danmark tilbage i tresserne. I den senere udgave som Delta Cross Band fik de kæmpe succes i firserne. I forbindelse med Copenhagen Blues festival mente de gamle drenge, at det kunne være sjovt at samle bandet igen, idet det da var 40 år siden, det hele startede.</p>
<p> </p>
<p>I spidsen for bandet stod Danmarks Mr. Blues: Troels Jensen, som desværre i 2020, gik alt for tidligt bort.</p>
<p> </p>
<p>I 2022 præsenteredes publikum imidlertid for en ny og udvidet udgave af orkestret. Bandet har fået forstærkning af pianisten Henning Verner og Danny Linde aka "Dee Boy Junior" (Zididada m.fl.) - Danny har i mange år haft Troels som sin gode ven og inspirationskilde.</p>
<p> </p>
<p>Mundharperne spilles af mesteren selv: Jørgen Lang. Bag trommerne finder man den erfarne og vidt berejste Asmus Jensen. På Bas og vokal, møder man den navnkundige og meget benyttede session- musiker Knut Henriksen. Og på guitar har man stadig Troels Jensens gamle "sideman" siden 68, Thomas Puggaard-Müller, der i 2008 havde sit comeback på den danske blues-scene.</p>
<p> </p>
<p>DELTA BLUES BAND spiller solid, velspillet og meget kompetent musik, der kommer langt ud i alle kroge af bluesmusikken.</p>
<p> </p>
<p>I 2023 leverede DELTA noget af fedest bluesmusik ved BLUES-A-RAMA og bjerg tog fuldstændig alle tilstedeværende.</p>
<p> </p>
<p>En stor succes!</p>
<p> </p>
<p>Line-up:</p>
<p>Danny Linde 'Dee Boy Junior' - vokal &amp; slide guitar</p>
<p>Knut Henriksen - basguitar</p>
<p>Jarno Varsted - mundharpe</p>
<p>Asmus Jensen - trommer</p>
<p>Henning Verner - piano</p>
<p>Thomas Puggaard-Müller - guitar</p> Se mere på http://www.bygningen-vejle.dk/
LOCATION:Ved Anlæget 14B 7100 Vejle
END:VEVENT
END:VCALENDAR


