BEGIN:VCALENDAR
VERSION:2.0
PRODID:-//www.bygningen-vejle.dk
METHOD:REQUEST
BEGIN:VEVENT
UID:6239
DTSTAMP:20260421T141900
DTSTART:20240924T193000
DTEND:20240924T193000
SUMMARY:Deep Songs
DESCRIPTION:<p style="font-weight: 400;">DEEP SONGS er et nyt projekt, der især sigter på at få et afrikansk aspekt ind i jazzen, som vi kender den. Det sørger den mozambiquiske trommeslager, percussionist og sanger, Deodato Sequir for. Deodato er en fantastisk musikalsk sjæl, en multi-instrumentalist, der også synger med stor kraft og inderlighed.</p>
<p style="font-weight: 400;"><br />DEEP SONGS er skabt af el-bassisten, Niels Ryde, som også har komponeret melodierne til projektet. Musikken kan karakteriseres som noget i retning af afro-funk-Nordic-jazz, hvor melodierne er sangbare samtidig med, at det instrumentale spil ofte får fuld power! Joe Zawinul anføres som en inspirationskilde af Ryde. Vi er altså ikke i bebop-land, men den skandinavisk/amerikanske inspiration vil være nærværende.<br />Ordet “DEEP” i gruppenavnet antyder, at et af målene med musikken er at nå publikum i sjælen med musikken. Vi tager med glæde imod denne gave.</p>
<p style="font-weight: 400;"> </p>
<p style="font-weight: 400;">Niels Ryde - el-bas</p>
<p style="font-weight: 400;">Krister Jonsson – guitar</p>
<p style="font-weight: 400;">Simon Spang-Hansen – sax<br />Deodato Sequir - trommer og vokal</p> Se mere på http://www.bygningen-vejle.dk/
LOCATION:Ved Anlæget 14B 7100 Vejle
END:VEVENT
END:VCALENDAR


