BEGIN:VCALENDAR
VERSION:2.0
PRODID:-//www.bygningen-vejle.dk
METHOD:REQUEST
BEGIN:VEVENT
UID:3438
DTSTAMP:20260424T220300
DTSTART:20190119T200000
DTEND:20190119T200000
SUMMARY:Trinelise Væring
DESCRIPTION:<p><br /> <strong>"En særdeles helstøbt fornøjelse" (Kim Skotte i Politiken) </strong><br /><strong> "Et uomgængeligt album" (Peter Rahbek i Jazz Special) </strong><br /> <br /> Trinelise Væring har netop løsladt sit nye album; ’Du går ind ad en dør'. Et dansksproget neo-soul album, hvor inspirationerne bl.a. kommer fra netop den genres dronning; Amy Winehouse. Og fra folk/beat rockerne Fleetwood Mac, samt den krasse del af countrymusikkens forkvinde Lucinda Williams. <br /> <br /> Forud for albummet har man kunnet stifte behageligt bekendtskab med singlerne; ’Forklædt’, ’Du har ik’ fortjent en sang’, og en flot musikvideo til den bluesy og groovy ’Tag mig’, med Trinelise og en hvid Ford Mustang i hovedrollerne. <br /> <br /> Albummet er produceret i samarbejde med den canadiske producer John Raham, indspillet i København og mikset i Vancouver, Canada. Sammen med sit nye band, med både hammond orgel, blæs og kor, leverer Væring skæve ørehængere med vid og bid i teksterne, og en veritabel fest på scenen. <br /> <br /> “Siden Væring lagde ud som jazzsangerinde, har hun støt og sikkert bevæget sig i retning af udenlandske ikoner som Lucinda Williams og PJ Harvey", skrev Kim Lynggaard i Information<br /> <br /> Line-up:<br /> Trinelise Væring Vokal/Guitars<br /> Una Skott Guitars/Kor<br /> Otto Sidenius Hammondorgel/Kor<br /> Maj Berit Guassora Trompet/Flugehorn/Kor<br /> Mia Engsager Basun/Kor<br /> Fredrik Lundin Bariton/Tenor sax<br /> Jeppe Skovbakke El-bas/Kor<br /> Anders Provis Trommer</p> Se mere på http://www.bygningen-vejle.dk/
LOCATION:Ved Anlæget 14B 7100 Vejle
END:VEVENT
END:VCALENDAR


