BEGIN:VCALENDAR
VERSION:2.0
PRODID:-//www.bygningen-vejle.dk
METHOD:REQUEST
BEGIN:VEVENT
UID:3557
DTSTAMP:20260423T171300
DTSTART:20190111T193000
DTEND:20190111T193000
SUMMARY:Quasar LIVE 2019
DESCRIPTION:<p><strong>Quasar Live 2019</strong></p>
<p> </p>
<p>Det står skrevet i stjernerne at der er noget nyt og spændende på spil, når Quasar Live 2019 afvikler sine indledende showcases i løbet af januar og februar 2019. 24 up-coming kunstnere skal dyste om 6 pladser i en finale på Jelling Musikfestival, hvor et branchepanel vil vælge en vinder, som sendes ud på en tourné til nogle af landets største festivaler og spillesteder.</p>
<p> </p>
<p>Quasar er et talentudviklingsprogram som Jelling Musikfestival har udviklet i samarbejde med de Regionale spillesteder. </p>
<p>Programmet har til formål at understøtte det musikalske vækstlag i Region Syddanmark med mentorforløb, workshops og altså muligheden for at stå på en professionel scene og prøve sit materiale af.</p>
<p> </p>
<p>Her i Bygningen bliver det til en aften med både lokale kunstnere, som man måske kender og kan heppe på, men også et par unge kunstnere andre steder fra i regionen, som man kan opleve. Og netop det med at heppe på ens egne helte kan gå hen og blive afgørende. Quasar stiller med et dommerpanel af kompetente musikere, sangskrivere, bookere og agenter, som vælger en vinder. Men som publikum kan man også afgive sin stemme og være med til at sende en kunstner videre i wildcard puljen.</p>
<p> </p>
<p>Så løsriv dig selv fra din foretrukne streamingtjeneste og deres algoritmer for hvad du skal lytte til, og kom ned i Bygningen og tag del i en god og hyggelig aften i et omfavnende fællesskab omkring den lokale originalmusik.</p>
<p><strong> </strong></p>
<p> </p>
<p><strong>Quasar program 2019</strong></p>
<p><em>Der taget forbehold for ændringer i programmet.</em></p>
<p><strong> </strong></p>
<p><strong>Fredag d. 11. januar – Bygningen, Vejle</strong></p>
<p>Dørene åbner kl. 19.00</p>
<ul>
<li>Inetio 19.30</li>
<li>Fennec On Fire 20.00</li>
<li>At Ease 20.30</li>
<li>Dan Rose 21.00</li>
<li>SOMEOVUS 21.30</li>
<li>Emberray 22.00</li>
</ul>
<p><strong>                                                                       </strong></p>
<p><strong>Fredag d. 25. januar – Godset, Kolding</strong></p>
<p>Dørene åbner kl. 19.00</p>
<ul>
<li>Lite Kite 19.30</li>
<li>Exotic Ice 20.00</li>
<li>Diagnosed Diversity 20.30</li>
<li>Crown The Beast 21.00</li>
<li>AMS x Gjerster 21.30</li>
<li>Natskygge 22.00</li>
</ul>
<p><strong> </strong></p>
<p><strong>Fredag d. 08. februar – Posten, Odense</strong></p>
<p>Dørene åbner kl. 19.00</p>
<ul>
<li>Jonas Hammer 19.30</li>
<li>Ting 20.00</li>
<li>The Recorded Voice 20.30</li>
<li>Drabant 21.00</li>
<li>Karenina 21.30</li>
<li>Klam Vandmand 22.00</li>
</ul>
<p><strong> </strong></p>
<p><strong>Fredag d. 22. februar – Konfus, Esbjerg</strong></p>
<p>Dørene åbner kl. 19.00</p>
<p><strong> </strong></p>
<ul>
<li>We Are What’s Left 19.30</li>
<li>Peter Harvest 20.00</li>
<li>Uortodoks Gruppe 20.30</li>
<li>Ruben Kyed 21.00</li>
<li>Gazéll 21.30</li>
<li>TrailerPark:Jesus 22.00</li>
</ul>
<p> </p>
<p><em>Quasar er arrangeret af Jelling Musikfestival, Kløften Festival og de regionale spillesteder i Region Syddanmark. Godset, Posten, Bygningen, Sønderborghus, Tobakken og Tøjhuset.</em></p>
<p><em>Og finansieret af Jelling Musikfestival, Region Syddanmark, Vejle Kommune, Trekantområdet og Tuborg Fondet.</em></p> Se mere på http://www.bygningen-vejle.dk/
LOCATION:Ved Anlæget 14B 7100 Vejle
END:VEVENT
END:VCALENDAR


